BEGIN:VCALENDAR
VERSION:2.0
PRODID:-//Attentive Benefits - ECPv6.15.12.2//NONSGML v1.0//EN
CALSCALE:GREGORIAN
METHOD:PUBLISH
X-WR-CALNAME:Attentive Benefits
X-ORIGINAL-URL:https://benefitsatattentive.com
X-WR-CALDESC:Events for Attentive Benefits
REFRESH-INTERVAL;VALUE=DURATION:PT1H
X-Robots-Tag:noindex
X-PUBLISHED-TTL:PT1H
BEGIN:VTIMEZONE
TZID:America/Chicago
BEGIN:DAYLIGHT
TZOFFSETFROM:-0600
TZOFFSETTO:-0500
TZNAME:CDT
DTSTART:20250309T080000
END:DAYLIGHT
BEGIN:STANDARD
TZOFFSETFROM:-0500
TZOFFSETTO:-0600
TZNAME:CST
DTSTART:20251102T070000
END:STANDARD
BEGIN:DAYLIGHT
TZOFFSETFROM:-0600
TZOFFSETTO:-0500
TZNAME:CDT
DTSTART:20260308T080000
END:DAYLIGHT
BEGIN:STANDARD
TZOFFSETFROM:-0500
TZOFFSETTO:-0600
TZNAME:CST
DTSTART:20261101T070000
END:STANDARD
BEGIN:DAYLIGHT
TZOFFSETFROM:-0600
TZOFFSETTO:-0500
TZNAME:CDT
DTSTART:20270314T080000
END:DAYLIGHT
BEGIN:STANDARD
TZOFFSETFROM:-0500
TZOFFSETTO:-0600
TZNAME:CST
DTSTART:20271107T070000
END:STANDARD
END:VTIMEZONE
BEGIN:VTIMEZONE
TZID:America/New_York
BEGIN:DAYLIGHT
TZOFFSETFROM:-0500
TZOFFSETTO:-0400
TZNAME:EDT
DTSTART:20250309T070000
END:DAYLIGHT
BEGIN:STANDARD
TZOFFSETFROM:-0400
TZOFFSETTO:-0500
TZNAME:EST
DTSTART:20251102T060000
END:STANDARD
BEGIN:DAYLIGHT
TZOFFSETFROM:-0500
TZOFFSETTO:-0400
TZNAME:EDT
DTSTART:20260308T070000
END:DAYLIGHT
BEGIN:STANDARD
TZOFFSETFROM:-0400
TZOFFSETTO:-0500
TZNAME:EST
DTSTART:20261101T060000
END:STANDARD
BEGIN:DAYLIGHT
TZOFFSETFROM:-0500
TZOFFSETTO:-0400
TZNAME:EDT
DTSTART:20270314T070000
END:DAYLIGHT
BEGIN:STANDARD
TZOFFSETFROM:-0400
TZOFFSETTO:-0500
TZNAME:EST
DTSTART:20271107T060000
END:STANDARD
END:VTIMEZONE
BEGIN:VEVENT
DTSTART;TZID=America/Chicago:20260421T080000
DTEND;TZID=America/Chicago:20260519T170000
DTSTAMP:20260420T022328
CREATED:20260410T143450Z
LAST-MODIFIED:20260410T143450Z
UID:10000006-1776758400-1779210000@benefitsatattentive.com
SUMMARY:Dependent Verification Audit
DESCRIPTION:Attentive has partnered with iVerify Pro\, a Lumelight company\, to complete a dependent verification audit from April 21st\, 2026 – May 19th\, 2026. \nEmployees with dependents on Attentive’s health plan are required to provide dependent verification documents to iVerify during the audit. \nFor more information\, visit our internal hub.
URL:https://benefitsatattentive.com/event/dependent-verification-audit/
END:VEVENT
BEGIN:VEVENT
DTSTART;TZID=America/New_York:20260421T140000
DTEND;TZID=America/New_York:20260421T150000
DTSTAMP:20260420T022328
CREATED:20260410T184944Z
LAST-MODIFIED:20260410T185547Z
UID:10000008-1776780000-1776783600@benefitsatattentive.com
SUMMARY:Fertility and Family-Building Webinar
DESCRIPTION:National Infertility Awareness Week (April 19–25) is coming up\, a time to raise awareness and support those navigating fertility and family-building journeys. \nJoin the Benefits Team and our partner Broker for an overview of fertility benefits under our medical plans\, including how they work\, with practical examples at 2pm ET. Calendar invite is forthcoming. 
URL:https://benefitsatattentive.com/event/fertility-family-building-webinar/
END:VEVENT
BEGIN:VEVENT
DTSTART;TZID=America/New_York:20260520T140000
DTEND;TZID=America/New_York:20260520T150000
DTSTAMP:20260420T022328
CREATED:20260410T143719Z
LAST-MODIFIED:20260410T185650Z
UID:10000007-1779285600-1779289200@benefitsatattentive.com
SUMMARY:Modern Health Refresher
DESCRIPTION:For Mental Health Awareness Month\, review what support is available through Modern Health at 2pm ET. Calendar invite is forthcoming.
URL:https://benefitsatattentive.com/event/modern-health-refresher/
END:VEVENT
END:VCALENDAR