BEGIN:VCALENDAR
VERSION:2.0
PRODID:-//Attentive Benefits - ECPv6.15.12.2//NONSGML v1.0//EN
CALSCALE:GREGORIAN
METHOD:PUBLISH
X-WR-CALNAME:Attentive Benefits
X-ORIGINAL-URL:https://benefitsatattentive.com
X-WR-CALDESC:Events for Attentive Benefits
REFRESH-INTERVAL;VALUE=DURATION:PT1H
X-Robots-Tag:noindex
X-PUBLISHED-TTL:PT1H
BEGIN:VTIMEZONE
TZID:America/Chicago
BEGIN:DAYLIGHT
TZOFFSETFROM:-0600
TZOFFSETTO:-0500
TZNAME:CDT
DTSTART:20250309T080000
END:DAYLIGHT
BEGIN:STANDARD
TZOFFSETFROM:-0500
TZOFFSETTO:-0600
TZNAME:CST
DTSTART:20251102T070000
END:STANDARD
BEGIN:DAYLIGHT
TZOFFSETFROM:-0600
TZOFFSETTO:-0500
TZNAME:CDT
DTSTART:20260308T080000
END:DAYLIGHT
BEGIN:STANDARD
TZOFFSETFROM:-0500
TZOFFSETTO:-0600
TZNAME:CST
DTSTART:20261101T070000
END:STANDARD
BEGIN:DAYLIGHT
TZOFFSETFROM:-0600
TZOFFSETTO:-0500
TZNAME:CDT
DTSTART:20270314T080000
END:DAYLIGHT
BEGIN:STANDARD
TZOFFSETFROM:-0500
TZOFFSETTO:-0600
TZNAME:CST
DTSTART:20271107T070000
END:STANDARD
END:VTIMEZONE
BEGIN:VEVENT
DTSTART;VALUE=DATE:20260331
DTEND;VALUE=DATE:20260401
DTSTAMP:20260420T023111
CREATED:20260212T203609Z
LAST-MODIFIED:20260212T203709Z
UID:10000005-1774915200-1775001599@benefitsatattentive.com
SUMMARY:Deadline to Submit 2025 FSA Expenses
DESCRIPTION:Claims for 2025 FSA expenses must be submitted to Optum by March 31. You can find more details on our internal US Benefits Hub.
URL:https://benefitsatattentive.com/event/deadline-to-submit-2025-fsa-expenses/
END:VEVENT
END:VCALENDAR